BEGIN:VCALENDAR
VERSION:2.0
PRODID:spatie/icalendar-generator
DESCRIPTION:Events from Afghan Women&amp;#039\;s Organization
X-WR-CALDESC:Events from Afghan Women&amp;#039\;s Organization
REFRESH-INTERVAL;VALUE=DURATION:PT1440M
X-PUBLISHED-TTL:PT1440M
BEGIN:VTIMEZONE
TZID:America/Toronto
BEGIN:STANDARD
DTSTART:20201101T020000Z
TZOFFSETFROM:-0400
TZOFFSETTO:-0500
END:STANDARD
BEGIN:DAYLIGHT
DTSTART:20210314T020000Z
TZOFFSETFROM:-0500
TZOFFSETTO:-0400
END:DAYLIGHT
BEGIN:STANDARD
DTSTART:20211107T020000Z
TZOFFSETFROM:-0400
TZOFFSETTO:-0500
END:STANDARD
END:VTIMEZONE
BEGIN:VTIMEZONE
TZID:UTC
BEGIN:STANDARD
DTSTART:20250724T120451Z
TZOFFSETFROM:+0000
TZOFFSETTO:+0000
END:STANDARD
END:VTIMEZONE
BEGIN:VEVENT
UID:1247-65
DTSTAMP:20260420T120451Z
SUMMARY:Father's Day
LOCATION:
ORGANIZER;CN=simplistics:MAILTO:tests@simplistics.ca
DTSTART;TZID=America/Toronto:20210622T140000
DTEND;TZID=America/Toronto:20210622T160000
X-ALT-DESC;FMTTYPE=TEXT/HTML:
CATEGORIES:Mississauga
URL;VALUE=URI:https://afghanwomen.org/mc-events/fathers-day/
METHOD:PUBLISH
END:VEVENT
END:VCALENDAR